Package: PanViz Version: 1.10.0 Command: /Library/Frameworks/R.framework/Resources/bin/R CMD build --keep-empty-dirs --no-resave-data PanViz StartedAt: 2025-10-14 06:18:03 -0400 (Tue, 14 Oct 2025) EndedAt: 2025-10-14 06:18:04 -0400 (Tue, 14 Oct 2025) EllapsedTime: 1.2 seconds RetCode: 1 Status: ERROR PackageFile: None PackageFileSize: NA