Package: PSMatch Version: 1.12.0 Command: E:\biocbuild\bbs-3.21-bioc\R\bin\R.exe CMD check --no-multiarch --install=check:PSMatch.install-out.txt --library=E:\biocbuild\bbs-3.21-bioc\R\library --no-vignettes --timings PSMatch_1.12.0.tar.gz StartedAt: 2025-08-15 05:40:18 -0400 (Fri, 15 Aug 2025) EndedAt: 2025-08-15 05:45:53 -0400 (Fri, 15 Aug 2025) EllapsedTime: 334.9 seconds RetCode: 0 Status: OK CheckDir: PSMatch.Rcheck Warnings: 0