Package: PSMatch Version: 1.12.0 Command: /home/biocbuild/bbs-3.21-bioc/R/bin/R CMD INSTALL PSMatch StartedAt: 2025-10-15 15:34:19 -0400 (Wed, 15 Oct 2025) EndedAt: 2025-10-15 15:34:50 -0400 (Wed, 15 Oct 2025) EllapsedTime: 30.5 seconds RetCode: 0 Status: OK