Package: PSMatch Version: 1.12.0 Command: /home/biocbuild/bbs-3.21-bioc/R/bin/R CMD check --install=check:PSMatch.install-out.txt --library=/home/biocbuild/bbs-3.21-bioc/R/site-library --timings PSMatch_1.12.0.tar.gz StartedAt: 2025-10-16 02:27:36 -0400 (Thu, 16 Oct 2025) EndedAt: 2025-10-16 02:33:25 -0400 (Thu, 16 Oct 2025) EllapsedTime: 349.5 seconds RetCode: 0 Status: OK CheckDir: PSMatch.Rcheck Warnings: 0