Package: PROcess Version: 1.84.0 Command: /home/biocbuild/R/R/bin/R CMD check --install=check:PROcess.install-out.txt --library=/home/biocbuild/R/R/site-library --no-vignettes --timings PROcess_1.84.0.tar.gz StartedAt: 2025-09-30 13:10:33 -0000 (Tue, 30 Sep 2025) EndedAt: 2025-09-30 13:11:25 -0000 (Tue, 30 Sep 2025) EllapsedTime: 52.1 seconds RetCode: 0 Status: OK CheckDir: PROcess.Rcheck Warnings: 0