Package: PROcess Version: 1.84.0 Command: /Library/Frameworks/R.framework/Resources/bin/R CMD build --keep-empty-dirs --no-resave-data PROcess StartedAt: 2025-04-21 17:18:47 -0400 (Mon, 21 Apr 2025) EndedAt: 2025-04-21 17:18:56 -0400 (Mon, 21 Apr 2025) EllapsedTime: 9.1 seconds RetCode: 0 Status: OK PackageFile: PROcess_1.84.0.tar.gz PackageFileSize: 1.999 MiB