Package: PROcess Version: 1.84.0 Command: /Library/Frameworks/R.framework/Resources/bin/R CMD build --keep-empty-dirs --no-resave-data PROcess StartedAt: 2025-10-07 07:10:22 -0400 (Tue, 07 Oct 2025) EndedAt: 2025-10-07 07:10:48 -0400 (Tue, 07 Oct 2025) EllapsedTime: 26.1 seconds RetCode: 0 Status: OK PackageFile: PROcess_1.84.0.tar.gz PackageFileSize: 2 MiB