Package: PROcess Version: 1.84.0 Command: rm -rf PROcess.buildbin-libdir && mkdir PROcess.buildbin-libdir && /Users/biocbuild/BBS/utils/build-universal.sh PROcess_1.84.0.tar.gz /Library/Frameworks/R.framework/Resources/bin/R PROcess.buildbin-libdir StartedAt: 2025-10-08 22:21:26 -0400 (Wed, 08 Oct 2025) EndedAt: 2025-10-08 22:21:35 -0400 (Wed, 08 Oct 2025) EllapsedTime: 9.1 seconds RetCode: 0 Status: OK PackageFile: PROcess_1.84.0.tgz PackageFileSize: 2.054 MiB