Package: PROPS Version: 1.30.0 Command: /home/biocbuild/bbs-3.21-bioc/R/bin/R CMD INSTALL PROPS StartedAt: 2025-10-15 15:28:32 -0400 (Wed, 15 Oct 2025) EndedAt: 2025-10-15 15:28:50 -0400 (Wed, 15 Oct 2025) EllapsedTime: 18.1 seconds RetCode: 0 Status: OK