Package: PROPS Version: 1.30.0 Command: /home/biocbuild/bbs-3.21-bioc/R/bin/R CMD check --install=check:PROPS.install-out.txt --library=/home/biocbuild/bbs-3.21-bioc/R/site-library --timings PROPS_1.30.0.tar.gz StartedAt: 2025-10-16 02:26:50 -0400 (Thu, 16 Oct 2025) EndedAt: 2025-10-16 02:33:51 -0400 (Thu, 16 Oct 2025) EllapsedTime: 421.6 seconds RetCode: 0 Status: OK CheckDir: PROPS.Rcheck Warnings: 0