Package: PROPER Version: 1.40.0 Command: /home/biocbuild/bbs-3.21-bioc/R/bin/R CMD check --install=check:PROPER.install-out.txt --library=/home/biocbuild/bbs-3.21-bioc/R/site-library --timings PROPER_1.40.0.tar.gz StartedAt: 2025-10-16 02:26:41 -0400 (Thu, 16 Oct 2025) EndedAt: 2025-10-16 02:27:19 -0400 (Thu, 16 Oct 2025) EllapsedTime: 38.1 seconds RetCode: 0 Status: WARNINGS CheckDir: PROPER.Rcheck Warnings: 2