Package: PROPER Version: 1.40.0 Command: /Library/Frameworks/R.framework/Resources/bin/R CMD build --keep-empty-dirs --no-resave-data PROPER StartedAt: 2025-10-14 06:57:29 -0400 (Tue, 14 Oct 2025) EndedAt: 2025-10-14 06:57:45 -0400 (Tue, 14 Oct 2025) EllapsedTime: 16.0 seconds RetCode: 0 Status: OK PackageFile: PROPER_1.40.0.tar.gz PackageFileSize: 1.8 MiB