Package: PRONE Version: 1.2.2 Command: /home/biocbuild/bbs-3.21-bioc/R/bin/R CMD build --keep-empty-dirs --no-resave-data PRONE StartedAt: 2025-10-15 19:14:27 -0400 (Wed, 15 Oct 2025) EndedAt: 2025-10-15 19:16:24 -0400 (Wed, 15 Oct 2025) EllapsedTime: 117.1 seconds RetCode: 0 Status: OK PackageFile: PRONE_1.2.2.tar.gz PackageFileSize: 9.061 MiB