Package: PREDA Version: 1.54.0 Command: /home/biocbuild/bbs-3.21-bioc/R/bin/R CMD check --install=check:PREDA.install-out.txt --library=/home/biocbuild/bbs-3.21-bioc/R/site-library --timings PREDA_1.54.0.tar.gz StartedAt: 2025-10-16 02:21:41 -0400 (Thu, 16 Oct 2025) EndedAt: 2025-10-16 02:25:02 -0400 (Thu, 16 Oct 2025) EllapsedTime: 201.3 seconds RetCode: 0 Status: WARNINGS CheckDir: PREDA.Rcheck Warnings: 1