Package: PREDA Version: 1.54.0 Command: /Library/Frameworks/R.framework/Resources/bin/R CMD build --keep-empty-dirs --no-resave-data PREDA StartedAt: 2025-10-13 21:38:53 -0400 (Mon, 13 Oct 2025) EndedAt: 2025-10-13 21:43:35 -0400 (Mon, 13 Oct 2025) EllapsedTime: 282.4 seconds RetCode: 0 Status: OK PackageFile: PREDA_1.54.0.tar.gz PackageFileSize: 2.003 MiB