Package: PREDA Version: 1.54.0 Command: /home/biocbuild/R/R/bin/R CMD INSTALL PREDA StartedAt: 2025-10-13 20:42:15 -0000 (Mon, 13 Oct 2025) EndedAt: 2025-10-13 20:42:44 -0000 (Mon, 13 Oct 2025) EllapsedTime: 28.4 seconds RetCode: 0 Status: OK