Package: PPInfer Version: 1.34.0 Command: /Library/Frameworks/R.framework/Resources/bin/R CMD build --keep-empty-dirs --no-resave-data PPInfer StartedAt: 2025-10-13 21:37:51 -0400 (Mon, 13 Oct 2025) EndedAt: 2025-10-13 21:40:08 -0400 (Mon, 13 Oct 2025) EllapsedTime: 136.8 seconds RetCode: 0 Status: OK PackageFile: PPInfer_1.34.0.tar.gz PackageFileSize: 325 KiB