Package: POWSC Version: 1.16.0 Command: /home/biocbuild/R/R/bin/R CMD check --install=check:POWSC.install-out.txt --library=/home/biocbuild/R/R/site-library --no-vignettes --timings POWSC_1.16.0.tar.gz StartedAt: 2025-10-03 12:47:48 -0000 (Fri, 03 Oct 2025) EndedAt: 2025-10-03 12:53:53 -0000 (Fri, 03 Oct 2025) EllapsedTime: 365.4 seconds RetCode: 0 Status: OK CheckDir: POWSC.Rcheck Warnings: 0