Package: POWSC Version: 1.16.0 Command: /Library/Frameworks/R.framework/Resources/bin/R CMD INSTALL POWSC StartedAt: 2025-10-06 16:18:29 -0400 (Mon, 06 Oct 2025) EndedAt: 2025-10-06 16:19:03 -0400 (Mon, 06 Oct 2025) EllapsedTime: 33.5 seconds RetCode: 0 Status: OK