Package: POWSC Version: 1.16.0 Command: rm -rf POWSC.buildbin-libdir && mkdir POWSC.buildbin-libdir && /Users/biocbuild/BBS/utils/build-universal.sh POWSC_1.16.0.tar.gz /Library/Frameworks/R.framework/Resources/bin/R POWSC.buildbin-libdir StartedAt: 2025-10-08 22:19:31 -0400 (Wed, 08 Oct 2025) EndedAt: 2025-10-08 22:20:11 -0400 (Wed, 08 Oct 2025) EllapsedTime: 39.7 seconds RetCode: 0 Status: OK PackageFile: POWSC_1.16.0.tgz PackageFileSize: 1.36 MiB