Package: POMA Version: 1.18.0 Command: /Library/Frameworks/R.framework/Resources/bin/R CMD INSTALL POMA StartedAt: 2025-10-13 16:46:56 -0400 (Mon, 13 Oct 2025) EndedAt: 2025-10-13 16:47:05 -0400 (Mon, 13 Oct 2025) EllapsedTime: 9.0 seconds RetCode: 0 Status: OK