Package: POMA Version: 1.18.0 Command: rm -rf POMA.buildbin-libdir && mkdir POMA.buildbin-libdir && /Users/biocbuild/BBS/utils/build-universal.sh POMA_1.18.0.tar.gz /Library/Frameworks/R.framework/Resources/bin/R POMA.buildbin-libdir StartedAt: 2025-10-14 14:24:14 -0400 (Tue, 14 Oct 2025) EndedAt: 2025-10-14 14:24:27 -0400 (Tue, 14 Oct 2025) EllapsedTime: 13.0 seconds RetCode: 0 Status: OK PackageFile: POMA_1.18.0.tgz PackageFileSize: 2.317 MiB