Package: PLSDAbatch Version: 1.4.0 Command: /Library/Frameworks/R.framework/Resources/bin/R CMD check --install=check:PLSDAbatch.install-out.txt --library=/Library/Frameworks/R.framework/Resources/library --no-vignettes --timings PLSDAbatch_1.4.0.tar.gz StartedAt: 2025-04-21 20:56:27 -0400 (Mon, 21 Apr 2025) EndedAt: 2025-04-21 20:58:14 -0400 (Mon, 21 Apr 2025) EllapsedTime: 107.2 seconds RetCode: 0 Status: OK CheckDir: PLSDAbatch.Rcheck Warnings: 0