Package: PLPE Version: 1.68.0 Command: /home/biocbuild/bbs-3.21-bioc/R/bin/R CMD INSTALL PLPE StartedAt: 2025-10-15 15:12:54 -0400 (Wed, 15 Oct 2025) EndedAt: 2025-10-15 15:12:58 -0400 (Wed, 15 Oct 2025) EllapsedTime: 3.6 seconds RetCode: 0 Status: OK