Package: PLPE Version: 1.68.0 Command: /home/biocbuild/bbs-3.21-bioc/R/bin/R CMD check --install=check:PLPE.install-out.txt --library=/home/biocbuild/bbs-3.21-bioc/R/site-library --timings PLPE_1.68.0.tar.gz StartedAt: 2025-10-16 02:16:38 -0400 (Thu, 16 Oct 2025) EndedAt: 2025-10-16 02:17:06 -0400 (Thu, 16 Oct 2025) EllapsedTime: 28.1 seconds RetCode: 0 Status: OK CheckDir: PLPE.Rcheck Warnings: 0