Package: PLPE Version: 1.68.0 Command: /Library/Frameworks/R.framework/Resources/bin/R CMD check --install=check:PLPE.install-out.txt --library=/Library/Frameworks/R.framework/Resources/library --no-vignettes --timings PLPE_1.68.0.tar.gz StartedAt: 2025-10-14 08:18:34 -0400 (Tue, 14 Oct 2025) EndedAt: 2025-10-14 08:20:10 -0400 (Tue, 14 Oct 2025) EllapsedTime: 96.6 seconds RetCode: 0 Status: OK CheckDir: PLPE.Rcheck Warnings: 0