Package: PLPE Version: 1.68.0 Command: /home/biocbuild/R/R/bin/R CMD INSTALL PLPE StartedAt: 2025-10-13 20:25:16 -0000 (Mon, 13 Oct 2025) EndedAt: 2025-10-13 20:25:21 -0000 (Mon, 13 Oct 2025) EllapsedTime: 5.1 seconds RetCode: 0 Status: OK