Package: PLPE Version: 1.68.0 Command: /home/biocbuild/R/R/bin/R CMD build --keep-empty-dirs --no-resave-data PLPE StartedAt: 2025-10-14 03:34:13 -0000 (Tue, 14 Oct 2025) EndedAt: 2025-10-14 03:34:22 -0000 (Tue, 14 Oct 2025) EllapsedTime: 9.0 seconds RetCode: 0 Status: OK PackageFile: PLPE_1.68.0.tar.gz PackageFileSize: 253.4 KiB