Package: PLPE Version: 1.68.0 Command: /Library/Frameworks/R.framework/Resources/bin/R CMD INSTALL PLPE StartedAt: 2025-10-13 15:54:36 -0400 (Mon, 13 Oct 2025) EndedAt: 2025-10-13 15:54:40 -0400 (Mon, 13 Oct 2025) EllapsedTime: 4.3 seconds RetCode: 0 Status: OK