Package: PLPE Version: 1.68.0 Command: /Library/Frameworks/R.framework/Resources/bin/R CMD check --install=check:PLPE.install-out.txt --library=/Library/Frameworks/R.framework/Resources/library --no-vignettes --timings PLPE_1.68.0.tar.gz StartedAt: 2025-10-15 07:44:29 -0400 (Wed, 15 Oct 2025) EndedAt: 2025-10-15 07:45:05 -0400 (Wed, 15 Oct 2025) EllapsedTime: 36.0 seconds RetCode: 0 Status: OK CheckDir: PLPE.Rcheck Warnings: 0