Package: PIUMA Version: 1.4.0 Command: E:\biocbuild\bbs-3.21-bioc\R\bin\R.exe CMD check --no-multiarch --install=check:PIUMA.install-out.txt --library=E:\biocbuild\bbs-3.21-bioc\R\library --no-vignettes --timings PIUMA_1.4.0.tar.gz StartedAt: 2025-08-15 05:27:12 -0400 (Fri, 15 Aug 2025) EndedAt: 2025-08-15 05:31:37 -0400 (Fri, 15 Aug 2025) EllapsedTime: 264.7 seconds RetCode: 0 Status: WARNINGS CheckDir: PIUMA.Rcheck Warnings: 1