Package: PIUMA Version: 1.4.0 Command: /home/biocbuild/bbs-3.21-bioc/R/bin/R CMD build --keep-empty-dirs --no-resave-data PIUMA StartedAt: 2025-10-15 19:09:33 -0400 (Wed, 15 Oct 2025) EndedAt: 2025-10-15 19:10:54 -0400 (Wed, 15 Oct 2025) EllapsedTime: 81.1 seconds RetCode: 1 Status: ERROR PackageFile: None PackageFileSize: NA