Package: PIUMA Version: 1.4.0 Command: /Library/Frameworks/R.framework/Resources/bin/R CMD INSTALL PIUMA StartedAt: 2025-10-13 16:29:38 -0400 (Mon, 13 Oct 2025) EndedAt: 2025-10-13 16:30:12 -0400 (Mon, 13 Oct 2025) EllapsedTime: 34.4 seconds RetCode: 0 Status: OK