Package: PIUMA Version: 1.4.0 Command: /Library/Frameworks/R.framework/Resources/bin/R CMD check --install=check:PIUMA.install-out.txt --library=/Library/Frameworks/R.framework/Resources/library --no-vignettes --timings PIUMA_1.4.0.tar.gz StartedAt: 2025-10-11 08:56:49 -0400 (Sat, 11 Oct 2025) EndedAt: 2025-10-11 09:01:11 -0400 (Sat, 11 Oct 2025) EllapsedTime: 262.3 seconds RetCode: 0 Status: WARNINGS CheckDir: PIUMA.Rcheck Warnings: 1