Package: PIUMA Version: 1.4.0 Command: /Library/Frameworks/R.framework/Resources/bin/R CMD build --keep-empty-dirs --no-resave-data PIUMA StartedAt: 2025-10-14 06:38:18 -0400 (Tue, 14 Oct 2025) EndedAt: 2025-10-14 06:39:59 -0400 (Tue, 14 Oct 2025) EllapsedTime: 100.6 seconds RetCode: 1 Status: ERROR PackageFile: None PackageFileSize: NA