Package: PICB Version: 1.0.0 Command: /home/biocbuild/bbs-3.21-bioc/R/bin/R CMD check --install=check:PICB.install-out.txt --library=/home/biocbuild/bbs-3.21-bioc/R/site-library --timings PICB_1.0.0.tar.gz StartedAt: 2025-10-16 02:13:41 -0400 (Thu, 16 Oct 2025) EndedAt: 2025-10-16 02:24:01 -0400 (Thu, 16 Oct 2025) EllapsedTime: 620.8 seconds RetCode: 0 Status: OK CheckDir: PICB.Rcheck Warnings: 0