Package: PICB Version: 1.0.0 Command: /home/biocbuild/bbs-3.21-bioc/R/bin/R CMD build --keep-empty-dirs --no-resave-data PICB StartedAt: 2025-10-15 19:09:07 -0400 (Wed, 15 Oct 2025) EndedAt: 2025-10-15 19:10:36 -0400 (Wed, 15 Oct 2025) EllapsedTime: 89.1 seconds RetCode: 0 Status: OK PackageFile: PICB_1.0.0.tar.gz PackageFileSize: 4.674 MiB