Package: PICB Version: 1.0.0 Command: /Library/Frameworks/R.framework/Resources/bin/R CMD check --install=check:PICB.install-out.txt --library=/Library/Frameworks/R.framework/Resources/library --no-vignettes --timings PICB_1.0.0.tar.gz StartedAt: 2025-10-14 08:13:26 -0400 (Tue, 14 Oct 2025) EndedAt: 2025-10-14 08:29:31 -0400 (Tue, 14 Oct 2025) EllapsedTime: 964.8 seconds RetCode: 0 Status: OK CheckDir: PICB.Rcheck Warnings: 0