Package: PICB Version: 1.0.0 Command: /Library/Frameworks/R.framework/Resources/bin/R CMD check --install=check:PICB.install-out.txt --library=/Library/Frameworks/R.framework/Resources/library --no-vignettes --timings PICB_1.0.0.tar.gz StartedAt: 2025-04-21 20:54:59 -0400 (Mon, 21 Apr 2025) EndedAt: 2025-04-21 20:59:03 -0400 (Mon, 21 Apr 2025) EllapsedTime: 244.0 seconds RetCode: 0 Status: OK CheckDir: PICB.Rcheck Warnings: 0