Package: PICB Version: 1.0.0 Command: rm -rf PICB.buildbin-libdir && mkdir PICB.buildbin-libdir && /Users/biocbuild/BBS/utils/build-universal.sh PICB_1.0.0.tar.gz /Library/Frameworks/R.framework/Resources/bin/R PICB.buildbin-libdir StartedAt: 2025-04-21 22:46:19 -0400 (Mon, 21 Apr 2025) EndedAt: 2025-04-21 22:46:21 -0400 (Mon, 21 Apr 2025) EllapsedTime: 2.1 seconds RetCode: 0 Status: OK PackageFile: PICB_1.0.0.tgz PackageFileSize: 4.691 MiB