Package: PICB Version: 1.0.0 Command: /Library/Frameworks/R.framework/Resources/bin/R CMD INSTALL PICB StartedAt: 2025-10-13 16:38:40 -0400 (Mon, 13 Oct 2025) EndedAt: 2025-10-13 16:38:44 -0400 (Mon, 13 Oct 2025) EllapsedTime: 3.5 seconds RetCode: 0 Status: OK