Package: PICB Version: 1.0.0 Command: /Library/Frameworks/R.framework/Resources/bin/R CMD check --install=check:PICB.install-out.txt --library=/Library/Frameworks/R.framework/Resources/library --no-vignettes --timings PICB_1.0.0.tar.gz StartedAt: 2025-10-15 07:34:43 -0400 (Wed, 15 Oct 2025) EndedAt: 2025-10-15 07:46:46 -0400 (Wed, 15 Oct 2025) EllapsedTime: 723.7 seconds RetCode: 0 Status: OK CheckDir: PICB.Rcheck Warnings: 0