Package: PICB Version: 1.0.0 Command: /Library/Frameworks/R.framework/Resources/bin/R CMD build --keep-empty-dirs --no-resave-data PICB StartedAt: 2025-10-14 06:35:59 -0400 (Tue, 14 Oct 2025) EndedAt: 2025-10-14 06:38:03 -0400 (Tue, 14 Oct 2025) EllapsedTime: 124.6 seconds RetCode: 0 Status: OK PackageFile: PICB_1.0.0.tar.gz PackageFileSize: 4.678 MiB