Package: PECA Version: 1.44.0 Command: /home/biocbuild/R/R/bin/R CMD INSTALL PECA StartedAt: 2025-10-13 20:43:15 -0000 (Mon, 13 Oct 2025) EndedAt: 2025-10-13 20:43:46 -0000 (Mon, 13 Oct 2025) EllapsedTime: 30.4 seconds RetCode: 0 Status: OK