Package: PECA Version: 1.44.0 Command: /Library/Frameworks/R.framework/Resources/bin/R CMD check --install=check:PECA.install-out.txt --library=/Library/Frameworks/R.framework/Resources/library --no-vignettes --timings PECA_1.44.0.tar.gz StartedAt: 2025-04-21 20:51:41 -0400 (Mon, 21 Apr 2025) EndedAt: 2025-04-21 20:52:40 -0400 (Mon, 21 Apr 2025) EllapsedTime: 58.8 seconds RetCode: 0 Status: OK CheckDir: PECA.Rcheck Warnings: 0