Package: PDATK Version: 1.16.1 Command: /Library/Frameworks/R.framework/Resources/bin/R CMD INSTALL PDATK StartedAt: 2025-10-13 16:27:29 -0400 (Mon, 13 Oct 2025) EndedAt: 2025-10-13 16:29:05 -0400 (Mon, 13 Oct 2025) EllapsedTime: 96.1 seconds RetCode: 0 Status: OK