Package: PDATK Version: 1.16.1 Command: /Library/Frameworks/R.framework/Resources/bin/R CMD build --keep-empty-dirs --no-resave-data PDATK StartedAt: 2025-10-13 21:27:54 -0400 (Mon, 13 Oct 2025) EndedAt: 2025-10-13 21:32:32 -0400 (Mon, 13 Oct 2025) EllapsedTime: 277.3 seconds RetCode: 0 Status: OK PackageFile: PDATK_1.16.1.tar.gz PackageFileSize: 3.004 MiB