Package: PDATK Version: 1.16.1 Command: rm -rf PDATK.buildbin-libdir && mkdir PDATK.buildbin-libdir && /Users/biocbuild/BBS/utils/build-universal.sh PDATK_1.16.1.tar.gz /Library/Frameworks/R.framework/Resources/bin/R PDATK.buildbin-libdir StartedAt: 2025-10-14 14:21:23 -0400 (Tue, 14 Oct 2025) EndedAt: 2025-10-14 14:23:36 -0400 (Tue, 14 Oct 2025) EllapsedTime: 133.1 seconds RetCode: 0 Status: OK PackageFile: PDATK_1.16.1.tgz PackageFileSize: 3.873 MiB