Package: PCAN Version: 1.36.0 Command: rm -rf PCAN.buildbin-libdir && mkdir PCAN.buildbin-libdir && E:\biocbuild\bbs-3.21-bioc\R\bin\R.exe CMD INSTALL --build --library=PCAN.buildbin-libdir PCAN_1.36.0.tar.gz StartedAt: 2025-08-15 09:55:07 -0400 (Fri, 15 Aug 2025) EndedAt: 2025-08-15 09:55:32 -0400 (Fri, 15 Aug 2025) EllapsedTime: 25.4 seconds RetCode: 0 Status: OK PackageFile: PCAN_1.36.0.zip PackageFileSize: 2.237 MiB