Package: PCAN Version: 1.36.0 Command: /Library/Frameworks/R.framework/Resources/bin/R CMD INSTALL PCAN StartedAt: 2025-10-13 15:09:22 -0400 (Mon, 13 Oct 2025) EndedAt: 2025-10-13 15:10:03 -0400 (Mon, 13 Oct 2025) EllapsedTime: 40.8 seconds RetCode: 0 Status: OK